Workbook

Sheet MANNA
A1: MANNA
A2: Yellow = you type. White = auto.
A3: DATE | B3: TYPE | C3: PARTICULAR | D3: AMOUNT | E3: COMPANY | G3: PREVIOUS DUE | H3: -19826 | J3: ADV DATE | K3: ADV PARTICULAR | L3: ADV AMOUNT
G4: TOTAL BILL | H4: =INT(SUM(D4:D203))
G5: ADVANCE TAKEN | H5: =SUM(L4:L33)
G6: CURRENT DUE | H6: =H3+H4-H5

Sheet OTHER
A1: OTHER
A2: Yellow = you type. White = auto.
A3: DATE | B3: TYPE | C3: PARTICULAR | D3: AMOUNT | E3: COMPANY | G3: PREVIOUS DUE | H3: 0 | J3: ADV DATE | K3: ADV PARTICULAR | L3: ADV AMOUNT
G4: TOTAL BILL | H4: =INT(SUM(D4:D203))
G5: ADVANCE TAKEN | H5: =SUM(L4:L33)
G6: CURRENT DUE | H6: =H3+H4-H5

Sheet SHAWON
A1: SHAWON
A2: Yellow = you type. White = auto.
A3: DATE | B3: TYPE | C3: PARTICULAR | D3: AMOUNT | E3: COMPANY | G3: PREVIOUS DUE | H3: -103575.55 | J3: ADV DATE | K3: ADV PARTICULAR | L3: ADV AMOUNT
G4: TOTAL BILL | H4: =INT(SUM(D4:D203))
G5: ADVANCE TAKEN | H5: =SUM(L4:L33)
G6: CURRENT DUE | H6: =H3+H4-H5

Sheet NASIR
A1: NASIR
A2: Yellow = you type. White = auto.
A3: DATE | B3: TYPE | C3: PARTICULAR | D3: AMOUNT | E3: COMPANY | G3: PREVIOUS DUE | H3: 65 | J3: ADV DATE | K3: ADV PARTICULAR | L3: ADV AMOUNT
G4: TOTAL BILL | H4: =INT(SUM(D4:D203))
G5: ADVANCE TAKEN | H5: =SUM(L4:L33)
G6: CURRENT DUE | H6: =H3+H4-H5

Sheet MAHFUZ
A1: MAHFUZ
A2: Yellow = you type. White = auto.
A3: DATE | B3: TYPE | C3: PARTICULAR | D3: AMOUNT | E3: COMPANY | G3: PREVIOUS DUE | H3: -9053 | J3: ADV DATE | K3: ADV PARTICULAR | L3: ADV AMOUNT
G4: TOTAL BILL | H4: =INT(SUM(D4:D203))
G5: ADVANCE TAKEN | H5: =SUM(L4:L33)
G6: CURRENT DUE | H6: =H3+H4-H5

Sheet JIHAD
A1: JIHAD
A2: Yellow = you type. White = auto.
A3: DATE | B3: TYPE | C3: PARTICULAR | D3: AMOUNT | E3: COMPANY | G3: PREVIOUS DUE | H3: -24402 | J3: ADV DATE | K3: ADV PARTICULAR | L3: ADV AMOUNT
G4: TOTAL BILL | H4: =INT(SUM(D4:D203))
G5: ADVANCE TAKEN | H5: =SUM(L4:L33)
G6: CURRENT DUE | H6: =H3+H4-H5

Sheet MD SIR
A1: MD SIR
A2: Yellow = you type. White = auto.
A3: DATE | B3: TYPE | C3: PARTICULAR | D3: AMOUNT | E3: COMPANY | G3: PREVIOUS DUE | H3: -15000 | J3: ADV DATE | K3: ADV PARTICULAR | L3: ADV AMOUNT
G4: TOTAL BILL | H4: =INT(SUM(D4:D203))
G5: ADVANCE TAKEN | H5: =SUM(L4:L33)
G6: CURRENT DUE | H6: =H3+H4-H5

Sheet UNCLE
A1: UNCLE
A2: Yellow = you type. White = auto.
A3: DATE | B3: TYPE | C3: PARTICULAR | D3: AMOUNT | E3: COMPANY | G3: PREVIOUS DUE | H3: 0 | J3: ADV DATE | K3: ADV PARTICULAR | L3: ADV AMOUNT
G4: TOTAL BILL | H4: =INT(SUM(D4:D203))
G5: ADVANCE TAKEN | H5: =SUM(L4:L33)
G6: CURRENT DUE | H6: =H3+H4-H5

Sheet FUND
A1: FUND — given by Wouliour vai
A3: FUND DATE | B3: FUND AMOUNT
A10: TOTAL FUND | B10: =SUM(B4:B9)

Sheet SUMMARY
A1: SUMMARY — this bill set
A2: 100% automatic (except the two yellow carry cells).
A3: Account | B3: Bill | C3: Advance | D3: Previous due | E3: Current due
A4: MANNA | B4: ='MANNA'!H4 | C4: ='MANNA'!H5 | D4: ='MANNA'!H3 | E4: ='MANNA'!H6
A5: OTHER | B5: ='OTHER'!H4 | C5: ='OTHER'!H5 | D5: ='OTHER'!H3 | E5: ='OTHER'!H6
A6: SHAWON | B6: ='SHAWON'!H4 | C6: ='SHAWON'!H5 | D6: ='SHAWON'!H3 | E6: ='SHAWON'!H6
A7: NASIR | B7: ='NASIR'!H4 | C7: ='NASIR'!H5 | D7: ='NASIR'!H3 | E7: ='NASIR'!H6
A8: MAHFUZ | B8: ='MAHFUZ'!H4 | C8: ='MAHFUZ'!H5 | D8: ='MAHFUZ'!H3 | E8: ='MAHFUZ'!H6
A9: JIHAD | B9: ='JIHAD'!H4 | C9: ='JIHAD'!H5 | D9: ='JIHAD'!H3 | E9: ='JIHAD'!H6
A10: MD SIR | B10: ='MD SIR'!H4 | C10: ='MD SIR'!H5 | D10: ='MD SIR'!H3 | E10: ='MD SIR'!H6
A11: UNCLE | B11: ='UNCLE'!H4 | C11: ='UNCLE'!H5 | D11: ='UNCLE'!H3 | E11: ='UNCLE'!H6
A12: TOTAL | B12: =SUM(B4:B11) | C12: =SUM(C4:C11) | D12: =SUM(D4:D11) | E12: =SUM(E4:E11)
A14: MEMBER DUE (held by all) | B14: =E12
A16: WOULIOUR VAI — running statement
A17: Opening balance owed | B17: -202631.55
A18: New fund this set | B18: =FUND!B10
A19: Bills submitted this set | B19: =B12
A20: Closing balance owed | B20: =B17-FUND!B10+B12
A22: CASH IN HAND — running
A23: Previous cash in hand | B23: 28840
A24: Cash in hand | B24: =B23+FUND!B10-C12
